BEGIN:VCALENDAR
VERSION:2.0
PRODID:-//wp-events-plugin.com//6.6.3//EN
TZID:America/Chicago
X-WR-TIMEZONE:America/Chicago
BEGIN:VEVENT
UID:7@3dperformancesystems.com
DTSTART;TZID=America/Chicago:20140318T080000
DTEND;TZID=America/Chicago:20140318T153000
DTSTAMP:20140314T221538Z
URL:http://3dperformancesystems.com/courses/3d-agility-and-power-training-
 a-biomechanical-approach-4/
SUMMARY:3D Agility and Power Training: A Biomechanical Approach
DESCRIPTION:No longer taking registrations for the Orlando Course [fontawe
 some icon="adjust" circle="yes or no" size="large medium or small" iconcol
 or="" circlecolor="" circlebordercolor=""]
CATEGORIES:3D Agility &amp; Power Training - A Biomechanical Approach
LOCATION:Holiday Inn & Suites Across from Universal Orlando\, 5905 Kirkman 
 Road \, Orlando\, Florida\, United States
GEO:28.4767495;-81.45726630000001
X-APPLE-STRUCTURED-LOCATION;VALUE=URI;X-ADDRESS=5905 Kirkman Road \, Orland
 o\, Florida\, United States;X-APPLE-RADIUS=100;X-TITLE=Holiday Inn & Suite
 s Across from Universal Orlando:geo:28.4767495,-81.45726630000001
END:VEVENT
BEGIN:VTIMEZONE
TZID:America/Chicago
X-LIC-LOCATION:America/Chicago
BEGIN:DAYLIGHT
DTSTART:20140309T030000
TZOFFSETFROM:-0600
TZOFFSETTO:-0500
TZNAME:CDT
END:DAYLIGHT
END:VTIMEZONE
END:VCALENDAR